BEGIN:VCALENDAR
VERSION:2.0
PRODID:-//Ranch13.sk//NetteEventExport//EN
CALSCALE:GREGORIAN
METHOD:PUBLISH
BEGIN:VEVENT
SUMMARY:STODOLA - svadba sl. Vetešková
DTSTART:20250913T100000
DTEND:20250913T230000
UID:art-51@ranch13.imptest.cz
URL:https://ranch13.imptest.cz/stodola-svadba-slecna-simona-kaskova
DTSTAMP:20251217T000337
DESCRIPTION:wa5008
END:VEVENT
END:VCALENDAR
