BEGIN:VCALENDAR
VERSION:2.0
PRODID:-//Ranch13.sk//NetteEventExport//EN
CALSCALE:GREGORIAN
METHOD:PUBLISH
BEGIN:VEVENT
SUMMARY:STODOLA - svadba sl. Vraždová
DTSTART:20240511T120000
DTEND:20240511T230000
UID:art-317@ranch13.imptest.cz
URL:https://ranch13.imptest.cz/stodola-svadba-sl-vrazdova
DTSTAMP:20260203T085929
DESCRIPTION:*
END:VEVENT
END:VCALENDAR
