BEGIN:VCALENDAR
VERSION:2.0
PRODID:-//Ranch13.sk//NetteEventExport//EN
CALSCALE:GREGORIAN
METHOD:PUBLISH
BEGIN:VEVENT
SUMMARY:STODOLA - Svadba sl. Tabačárová
DTSTART:20250920T000000
DTEND:20250920T000000
UID:art-70@ranch13.imptest.cz
URL:https://ranch13.imptest.cz/stodola-svadba-sl-veronika-brlasova
DTSTAMP:20240814T130939
DESCRIPTION:wa5001
END:VEVENT
END:VCALENDAR
