BEGIN:VCALENDAR
VERSION:2.0
PRODID:-//Ranch13.sk//NetteEventExport//EN
CALSCALE:GREGORIAN
METHOD:PUBLISH
BEGIN:VEVENT
SUMMARY:STODOLA - SVADBA SL. KÖRMENDYOVÁ
DTSTART:20240615T120000
DTEND:20240615T220000
UID:art-135@ranch13.imptest.cz
URL:https://ranch13.imptest.cz/stodola-svadba-sl-kormendyova
DTSTAMP:20251105T124423
DESCRIPTION:*
END:VEVENT
END:VCALENDAR
