BEGIN:VCALENDAR
VERSION:2.0
PRODID:-//Ranch13.sk//NetteEventExport//EN
CALSCALE:GREGORIAN
METHOD:PUBLISH
BEGIN:VEVENT
SUMMARY:STODOLA - svadba sl. Hantáková
DTSTART:20250912T120000
DTEND:20250912T230000
UID:art-213@ranch13.imptest.cz
URL:https://ranch13.imptest.cz/stodola-svadba-sl-hantakova
DTSTAMP:20250513T105508
DESCRIPTION:Wa5025
END:VEVENT
END:VCALENDAR
