BEGIN:VCALENDAR
VERSION:2.0
PRODID:-//Ranch13.sk//NetteEventExport//EN
CALSCALE:GREGORIAN
METHOD:PUBLISH
BEGIN:VEVENT
SUMMARY:STODOLA - svadba sl. Dignová 6.7.2024
DTSTART:20240706T140000
DTEND:20240706T230000
UID:art-316@ranch13.imptest.cz
URL:https://ranch13.imptest.cz/stodola-svadba-sl-dignova-6-7-2024
DTSTAMP:20260202T133920
DESCRIPTION:*
END:VEVENT
END:VCALENDAR
