BEGIN:VCALENDAR
VERSION:2.0
PRODID:-//Ranch13.sk//NetteEventExport//EN
CALSCALE:GREGORIAN
METHOD:PUBLISH
BEGIN:VEVENT
SUMMARY:STODOLA - SVADBA P. CHROMIAK
DTSTART:20240907T100000
DTEND:20240907T000000
UID:art-145@ranch13.imptest.cz
URL:https://ranch13.imptest.cz/stodola-svadba-p-chromiak
DTSTAMP:20240814T120114
DESCRIPTION:WA4007
END:VEVENT
END:VCALENDAR
