BEGIN:VCALENDAR
VERSION:2.0
PRODID:-//Ranch13.sk//NetteEventExport//EN
CALSCALE:GREGORIAN
METHOD:PUBLISH
BEGIN:VEVENT
SUMMARY:STODOLA - Svadba sl. Mazánová
DTSTART:20250823T120000
DTEND:20250823T230000
UID:art-210@ranch13.imptest.cz
URL:https://ranch13.imptest.cz/stodola-saloon-svadba-sl-mazanova
DTSTAMP:20250917T111650
DESCRIPTION:Wa5035
END:VEVENT
END:VCALENDAR
