BEGIN:VCALENDAR
VERSION:2.0
PRODID:-//Ranch13.sk//NetteEventExport//EN
CALSCALE:GREGORIAN
METHOD:PUBLISH
BEGIN:VEVENT
SUMMARY:SALOON- Teambuilding Markiza
DTSTART:20240919T010000
DTEND:20240919T230000
UID:art-173@ranch13.imptest.cz
URL:https://ranch13.imptest.cz/saloon-teambuilding-markiza
DTSTAMP:20241211T100107
DESCRIPTION:Wa4061
END:VEVENT
END:VCALENDAR
