BEGIN:VCALENDAR
VERSION:2.0
PRODID:-//Ranch13.sk//NetteEventExport//EN
CALSCALE:GREGORIAN
METHOD:PUBLISH
BEGIN:VEVENT
SUMMARY:Saloon - Karpatská Perla Teambuilding
DTSTART:20240811T000000
DTEND:20240812T000000
UID:art-172@ranch13.imptest.cz
URL:https://ranch13.imptest.cz/saloon-teambuilding-karpatska-perla
DTSTAMP:20241211T100004
DESCRIPTION:Wa4060
END:VEVENT
END:VCALENDAR
