BEGIN:VCALENDAR
VERSION:2.0
PRODID:-//Ranch13.sk//NetteEventExport//EN
CALSCALE:GREGORIAN
METHOD:PUBLISH
BEGIN:VEVENT
SUMMARY:STODOLA - svadba sl. Holá
DTSTART:20250606T100000
DTEND:20250606T230000
UID:art-133@ranch13.imptest.cz
URL:https://ranch13.imptest.cz/saloon-svadba-sl-tupa
DTSTAMP:20250505T143146
DESCRIPTION:Wa5004
END:VEVENT
END:VCALENDAR
