BEGIN:VCALENDAR
VERSION:2.0
PRODID:-//Ranch13.sk//NetteEventExport//EN
CALSCALE:GREGORIAN
METHOD:PUBLISH
BEGIN:VEVENT
SUMMARY:SALOON - Svadba sl. Strnková
DTSTART:20230520T120000
DTEND:20230520T230000
UID:art-318@ranch13.imptest.cz
URL:https://ranch13.imptest.cz/saloon-svadba-sl-strnkova-1
DTSTAMP:20260203T121844
DESCRIPTION:*
END:VEVENT
END:VCALENDAR
