BEGIN:VCALENDAR
VERSION:2.0
PRODID:-//Ranch13.sk//NetteEventExport//EN
CALSCALE:GREGORIAN
METHOD:PUBLISH
BEGIN:VEVENT
SUMMARY:SALOON - Svadba p. Brnák
DTSTART:20240803T080000
DTEND:20240803T230000
UID:art-174@ranch13.imptest.cz
URL:https://ranch13.imptest.cz/saloon-svadba-p-brnak-3-8-2024
DTSTAMP:20241211T083104
DESCRIPTION:WA4047
END:VEVENT
END:VCALENDAR
