BEGIN:VCALENDAR
VERSION:2.0
PRODID:-//Ranch13.sk//NetteEventExport//EN
CALSCALE:GREGORIAN
METHOD:PUBLISH
BEGIN:VEVENT
SUMMARY:Reining NRHA April Slide Spring DERBY (NRHA + SAWRR) 24.-27.4.2025
DTSTART:20250424T120000
DTEND:20250427T000000
UID:art-240@ranch13.imptest.cz
URL:https://ranch13.imptest.cz/reining-nrha-april-slide-spring-derby-nrha-sawrr-24-27-4-2025
DTSTAMP:20250520T094838
DESCRIPTION:Wa5036
END:VEVENT
END:VCALENDAR
