BEGIN:VCALENDAR
VERSION:2.0
PRODID:-//Ranch13.sk//NetteEventExport//EN
CALSCALE:GREGORIAN
METHOD:PUBLISH
BEGIN:VEVENT
SUMMARY:Novoročná Vianočná Ulička Traja Králi 5.1.2025
DTSTART:20250105T170000
DTEND:20250105T200000
UID:art-179@ranch13.imptest.cz
URL:https://ranch13.imptest.cz/novorocna-vianocna-ulicka-17-00-20-00-traja-krali
DTSTAMP:20260202T124340
DESCRIPTION:Wa4062\n<p>Mil&iacute\; n&aacute\;v&scaron\;tevn&iacute\;ci\,</p>\n<p>Pr&iacute\;ďte na Ranč 13 a zažite jedinečn&eacute\; divadeln&eacute\; predstavenie o troch kr&aacute\;ľoch\, ktor&eacute\; v&aacute\;m pribl&iacute\;ži pr&iacute\;beh t&yacute\;chto mudrcov z V&yacute\;chodu. Ga&scaron\;par\, Melichar a Baltaz&aacute\;r\, veden&iacute\; jasnou hviezdou\, sa vydali na cestu\, aby sa poklonili novonaroden&eacute\;mu Ježi&scaron\;kovi a priniesli mu vz&aacute\;cne dary\: zlato\, kadidlo a myrhu. Na&scaron\;e predstavenie v&aacute\;m okrem historick&eacute\;ho pr&iacute\;behu pon&uacute\;kne aj pohľad na hodnoty\, ktor&eacute\; traja kr&aacute\;li symbolizuj&uacute\; &ndash\; m&uacute\;drosť\, viera a &uacute\;cta. Užite si magick&uacute\; atmosf&eacute\;ru a nechajte sa uniesť duchom Vianoc v kr&aacute\;snom prostred&iacute\; n&aacute\;&scaron\;ho ranča.</p>\n<p>Te&scaron\;&iacute\;me sa na va&scaron\;u n&aacute\;v&scaron\;tevu!</p>
END:VEVENT
END:VCALENDAR
