BEGIN:VCALENDAR
VERSION:2.0
PRODID:-//Ranch13.sk//NetteEventExport//EN
CALSCALE:GREGORIAN
METHOD:PUBLISH
BEGIN:VEVENT
SUMMARY:HALA - Reining MSR + NRHA - Ranch13 November Slide Autumn DERBY 19.-23.11.2025
DTSTART:20251119T120000
DTEND:20251123T180000
UID:art-221@ranch13.imptest.cz
URL:https://ranch13.imptest.cz/hala-reining-msr-nrha-ranch13-november-slide-autumn-derby
DTSTAMP:20251216T091300
DESCRIPTION:Wa5047\n<p>&nbsp\;</p>\n<p><a href="https\://www.eurorodeo.eu/detail-zavodu/1490">Viac info tu </a></p>
END:VEVENT
END:VCALENDAR
