BEGIN:VCALENDAR
VERSION:2.0
PRODID:-//Ranch13.sk//NetteEventExport//EN
CALSCALE:GREGORIAN
METHOD:PUBLISH
BEGIN:VEVENT
SUMMARY:HALA - MSR - Drezúra All Round - Ranch13 SAWRR + AQHA + APHA 10.-12.10.2025
DTSTART:20251010T120000
DTEND:20251012T220000
UID:art-218@ranch13.imptest.cz
URL:https://ranch13.imptest.cz/hala-drezura-all-round-ranch13-sawrr-wrc-seesee-cup-3
DTSTAMP:20251021T135321
DESCRIPTION:Wa5045
END:VEVENT
END:VCALENDAR
