BEGIN:VCALENDAR
VERSION:2.0
PRODID:-//Ranch13.sk//NetteEventExport//EN
CALSCALE:GREGORIAN
METHOD:PUBLISH
BEGIN:VEVENT
SUMMARY:HALA - 4NCHA SPRING CHALLENGER SHOW III CUTTING (4NCHA + ERCHA + SAWRR)
DTSTART:20241018T000000
DTEND:20241020T000000
UID:art-146@ranch13.imptest.cz
URL:https://ranch13.imptest.cz/hala-4ncha-spring-challenger-show-iii-cutting-4ncha-ercha-sawrr
DTSTAMP:20240814T122238
DESCRIPTION:wa4043
END:VEVENT
END:VCALENDAR
