BEGIN:VCALENDAR
VERSION:2.0
PRODID:-//Ranch13.sk//NetteEventExport//EN
CALSCALE:GREGORIAN
METHOD:PUBLISH
BEGIN:VEVENT
SUMMARY:Fašiangy s Furmanskými Pretekmi  22.2.2025
DTSTART:20250222T120000
DTEND:20250222T230000
UID:art-184@ranch13.imptest.cz
URL:https://ranch13.imptest.cz/fasiangy-s-furmanskymi-pretekmi-sobota
DTSTAMP:20260202T121303
DESCRIPTION:Wa5020
END:VEVENT
END:VCALENDAR
