BEGIN:VCALENDAR
VERSION:2.0
PRODID:-//Ranch13.sk//NetteEventExport//EN
CALSCALE:GREGORIAN
METHOD:PUBLISH
BEGIN:VEVENT
SUMMARY:Dedko Dobeš 80-tka oslava
DTSTART:20250118T120000
DTEND:20250118T230000
UID:art-182@ranch13.imptest.cz
URL:https://ranch13.imptest.cz/dedko-dobes-80-tka-oslava
DTSTAMP:20241217T121301
DESCRIPTION:Wa5019
END:VEVENT
END:VCALENDAR
