BEGIN:VCALENDAR
VERSION:2.0
PRODID:-//Ranch13.sk//NetteEventExport//EN
CALSCALE:GREGORIAN
METHOD:PUBLISH
BEGIN:VEVENT
SUMMARY:Vianočná ulička - Perinbaba + Deduško Večerníček 21.12.2025
DTSTART:20251221T170000
DTEND:20251221T200000
UID:art-270@ranch13.imptest.cz
URL:https://ranch13.imptest.cz/4-adventna-nedela-vianocna-ulicka-2
DTSTAMP:20260129T140324
DESCRIPTION:Wa5074
END:VEVENT
END:VCALENDAR
