BEGIN:VCALENDAR
VERSION:2.0
PRODID:-//Ranch13.sk//NetteEventExport//EN
CALSCALE:GREGORIAN
METHOD:PUBLISH
BEGIN:VEVENT
SUMMARY:Vianočná ulička - Tradície na Luciu + ohňová show 13.12.2025
DTSTART:20251213T170000
DTEND:20251213T200000
UID:art-266@ranch13.imptest.cz
URL:https://ranch13.imptest.cz/3-adventna-nedela-vianocna-ulicka-1
DTSTAMP:20260129T140411
DESCRIPTION:Wa5074
END:VEVENT
END:VCALENDAR
