BEGIN:VCALENDAR
VERSION:2.0
PRODID:-//Ranch13.sk//NetteEventExport//EN
CALSCALE:GREGORIAN
METHOD:PUBLISH
BEGIN:VEVENT
SUMMARY:Vianočná ulička - Tri oriešky pre Popolušku 7.12.2025
DTSTART:20251207T170000
DTEND:20251207T200000
UID:art-264@ranch13.imptest.cz
URL:https://ranch13.imptest.cz/2-adventna-nedela-vianocna-ulicka-2
DTSTAMP:20260129T140440
DESCRIPTION:Wa5074
END:VEVENT
END:VCALENDAR
